BEGIN:VCALENDAR
VERSION:2.0
PRODID:-//Tanzzentrum Wien - ECPv6.14.2//NONSGML v1.0//EN
CALSCALE:GREGORIAN
METHOD:PUBLISH
X-ORIGINAL-URL:https://tanz-zentrum.at
X-WR-CALDESC:Veranstaltungen für Tanzzentrum Wien
REFRESH-INTERVAL;VALUE=DURATION:PT1H
X-Robots-Tag:noindex
X-PUBLISHED-TTL:PT1H
BEGIN:VTIMEZONE
TZID:UTC
BEGIN:STANDARD
TZOFFSETFROM:+0000
TZOFFSETTO:+0000
TZNAME:UTC
DTSTART:20200101T000000
END:STANDARD
END:VTIMEZONE
BEGIN:VEVENT
DTSTART;TZID=UTC:20200613T093000
DTEND;TZID=UTC:20200613T120000
DTSTAMP:20260422T214658
CREATED:20190214T171511Z
LAST-MODIFIED:20200122T095041Z
UID:470-1592040600-1592049600@tanz-zentrum.at
SUMMARY:Ausdruckstanz am Sa\, 13. Juni 20
DESCRIPTION:Ausdruckstanz am Samstag vormittag! \nLust auf Tanz und Bewegung\, den Körper spüren und neue Bewegungselemente entdecken. Dieser Kurs ist für AnfängerInnen\, wie für Tanzerfahrene geeignet. Ziel des Ausdruckstanzes ist es\, die Kreativität zu fördern\, die Bewegungsqualitäten des Körpers zu erweitern und gleichzeitig den Körper spüren zu lernen und ihm ein Training zu gönnen. Im Bewegen wollen wir im Hier und Jetzt ankommen\, die Bewegungen von innen heraus entdecken und bewußt das Tanzen erleben. \nWorkshopkosten: 40 € / erm. 33 € (für arbeitslose\, karenzierte und alleinerziehende Teilnehmer_innen\, sowie Schüler_innen und Student_innen bis 27 Jahre) \nANMELDUNG ZUM WORKSHOP: \n\n\n  \n\n\n\n Ihr Name (Pflichtfeld)\n \n \n Ihre E-Mail-Adresse (Pflichtfeld)\n \n \n Veranstaltungstermin (bitte ausfüllen)\n \n \n Ihre Telefonnr.\n \n \n Ihre Nachricht\n \n \nMit der Anmeldung erklären Sie sich mit den Teilnahmebedingungen unserer Tanzangebote einverstanden.\n \nMit der Nutzung dieses Anmeldeformulars erklären Sie sich mit der Speicherung und Verarbeitung Ihrer Daten durch diese Website einverstanden.
URL:https://tanz-zentrum.at/event/ausdruckstanzworkshop-am-13-juni-20
LOCATION:Theatersaal des come2gether\, Kleingasse 5\, Wien\, Wien\, 1030\, Österreich
CATEGORIES:AusdruckstanzWE
END:VEVENT
END:VCALENDAR