BEGIN:VCALENDAR
VERSION:2.0
PRODID:-//Tanzzentrum Wien - ECPv6.14.2//NONSGML v1.0//EN
CALSCALE:GREGORIAN
METHOD:PUBLISH
X-ORIGINAL-URL:https://tanz-zentrum.at
X-WR-CALDESC:Veranstaltungen für Tanzzentrum Wien
REFRESH-INTERVAL;VALUE=DURATION:PT1H
X-Robots-Tag:noindex
X-PUBLISHED-TTL:PT1H
BEGIN:VTIMEZONE
TZID:UTC
BEGIN:STANDARD
TZOFFSETFROM:+0000
TZOFFSETTO:+0000
TZNAME:UTC
DTSTART:20200101T000000
END:STANDARD
END:VTIMEZONE
BEGIN:VEVENT
DTSTART;TZID=UTC:20200914T160000
DTEND;TZID=UTC:20200914T165000
DTSTAMP:20260422T170418
CREATED:20200418T080656Z
LAST-MODIFIED:20200418T081101Z
UID:1710-1600099200-1600102200@tanz-zentrum.at
SUMMARY:Schnupperstunde Improbatik ab 6 Jahre
DESCRIPTION:Hier schaffen wir sehr spielerisch eine Verbindung von Tanzimprovisation\, Akrobatik\, Contact Improvisation\, Yoga und Schauspiel. Mit unterschiedlichen Bewegungsqualitäten und Hebefiguren sowie mit Hilfe unserer Körper- Raumwahrnehmung entwickeln wir eine choreographische Improbatik-Performance. Im Vordergrund stehen neben Spaß und Freude am Tanzen die Schulung der Wahrnehmung für das gemeinsame Tanzen in der Gruppe und für den eigenen Körper in Ruhe und Bewegung. Improbatik® ist ein 2010 enstandenes Konzept von Dhana Loner\, das diese unterschiedlichen Bereiche künstlerisch verbindet. \nBItte den Beitrag von 15 Euro bezahlen\, um den Schnupperstundentermin zu fixieren. Der Schnupperstundenbeitrag wird bei Kursbuchung vom Kursbeitrag abgezogen. \nANMELDUNG IMPROBATIK SCHNUPPERSTUNDE \n\n\n  \n\n\n\n Name des Kindes(Pflichtfeld)\n \n \n Geburtsdatum der Teilnehmenden(Pflichtfeld)\n \n \n Ihre E-Mail-Adresse (Pflichtfeld)\n \n \n Kursart\, Kurstermin und Uhrzeit\n \n \n Ihre Telefonnr.\n \n \n Ihre Nachricht\n \n \nMit der Anmeldung erklären Sie sich mit den Teilnahmebedingungen unserer Tanzangebote einverstanden.\n \nMit der Nutzung dieses Formulars erklären Sie sich mit der Speicherung und Verarbeitung Ihrer Daten durch diese Website einverstanden.
URL:https://tanz-zentrum.at/event/schnupperstunde-improbatik-ab-6-jahre
LOCATION:Theatersaal des come2gether\, Kleingasse 5\, Wien\, Wien\, 1030\, Österreich
END:VEVENT
END:VCALENDAR